BEGIN:VCALENDAR
VERSION:2.0
PRODID:-// - ECPv6.0.9//NONSGML v1.0//EN
CALSCALE:GREGORIAN
METHOD:PUBLISH
X-ORIGINAL-URL:https://www.patrimoniodesevilla.es
X-WR-CALDESC:Eventos para 
REFRESH-INTERVAL;VALUE=DURATION:PT1H
X-Robots-Tag:noindex
X-PUBLISHED-TTL:PT1H
BEGIN:VTIMEZONE
TZID:Europe/Paris
BEGIN:DAYLIGHT
TZOFFSETFROM:+0100
TZOFFSETTO:+0200
TZNAME:CEST
DTSTART:20260329T010000
END:DAYLIGHT
BEGIN:STANDARD
TZOFFSETFROM:+0200
TZOFFSETTO:+0100
TZNAME:CET
DTSTART:20261025T010000
END:STANDARD
END:VTIMEZONE
BEGIN:VEVENT
DTSTART;TZID=Europe/Paris:20260208T120000
DTEND;TZID=Europe/Paris:20260208T133000
DTSTAMP:20260421T221603
CREATED:20260202T164819Z
LAST-MODIFIED:20260202T164819Z
UID:8091-1770552000-1770557400@www.patrimoniodesevilla.es
SUMMARY:Conferencia "Los Duques de Montpensier coleccionistas y mecenas de arte"
DESCRIPTION:El Domingo 8 de Febrero\, a las 12 horas\, y dentro del ciclo de conferencias Mirar un cuadro. D. Ángel Rodríguez Rebollo\, Licenciado en Historia del Arte por la Universidad Complutense de Madrid\, hablará sobre “Los duques de Montpensier coleccionistas y mecenas de arte”. Será en la sala 4 del Museo de Bellas Artes. La entrada es libre.
URL:https://www.patrimoniodesevilla.es/event/conferencia-los-duques-de-montpensier-coleccionistas-y-mecenas-de-arte
END:VEVENT
END:VCALENDAR