BEGIN:VCALENDAR
VERSION:2.0
PRODID:-// - ECPv6.0.9//NONSGML v1.0//EN
CALSCALE:GREGORIAN
METHOD:PUBLISH
X-ORIGINAL-URL:https://www.patrimoniodesevilla.es
X-WR-CALDESC:Eventos para 
REFRESH-INTERVAL;VALUE=DURATION:PT1H
X-Robots-Tag:noindex
X-PUBLISHED-TTL:PT1H
BEGIN:VTIMEZONE
TZID:Europe/Paris
BEGIN:DAYLIGHT
TZOFFSETFROM:+0100
TZOFFSETTO:+0200
TZNAME:CEST
DTSTART:20260329T010000
END:DAYLIGHT
BEGIN:STANDARD
TZOFFSETFROM:+0200
TZOFFSETTO:+0100
TZNAME:CET
DTSTART:20261025T010000
END:STANDARD
END:VTIMEZONE
BEGIN:VEVENT
DTSTART;TZID=Europe/Paris:20260414T190000
DTEND;TZID=Europe/Paris:20260414T203000
DTSTAMP:20260419T150103
CREATED:20260413T130753Z
LAST-MODIFIED:20260413T143258Z
UID:8221-1776193200-1776198600@www.patrimoniodesevilla.es
SUMMARY:Ciclo de conferencias "Sevilla y la unión imperial: Cinco siglos del matrimonio entre Carlos I e Isabel de Portugal (1526-2026)". Cuarta y última conferencia "Sevilla y el Guadalquivir en los siglos XVI y XVII: "Estómago" de la monarquía de los Austrias"
DESCRIPTION:Marcos Pacheco Morales-Padrón coordina el ciclo de conferencias «Sevilla y la unión imperial: cinco siglos del matrimonio entre Carlos I e Isabel de Portugal (1526-2026)». \nCuarta y última conferencia «Sevilla y el Guadalquivir en los siglos XVI y XVII: «Estómago» de la monarquía de los Austrias» . Martes 14 de Abril\, a las 19 horas\, en el Real Círculo de Labradores (Calle Pedro Caravaca nº1). \nEl ponente es D. Marcos Pacheco Morales-Padrón. \nLa entrada es libre hasta completar el aforo.
URL:https://www.patrimoniodesevilla.es/event/ciclo-de-conferencias-sevilla-y-la-union-imperial-cinco-siglos-del-matrimonio-entre-carlos-i-e-isabel-de-portugal-1526-2026-cuarta-y-ultima-conferencia-sevilla-y-el-guadalquivir-en-los-siglo
END:VEVENT
END:VCALENDAR